﻿BEGIN:VCALENDAR
VERSION:2.0
PRODID:-//Section Montagne - AS CEA/ST Grenoble - ECPv4.6.6//NONSGML v1.0//EN
CALSCALE:GREGORIAN
METHOD:PUBLISH
X-WR-CALNAME:Section Montagne - AS CEA/ST Grenoble
X-ORIGINAL-URL:https://www.asceast-montagne.fr
X-WR-CALDESC:Events for Section Montagne - AS CEA/ST Grenoble
BEGIN:VEVENT
DTSTART;VALUE=DATE:20240217
DTEND;VALUE=DATE:20240226
DTSTAMP:20260420T090511
CREATED:20240108T111438Z
LAST-MODIFIED:20240108T111438Z
UID:10024-1708128000-1708905599@www.asceast-montagne.fr
SUMMARY:Raid à ski en Albanie
DESCRIPTION:Sat 17 Home => Pristina => Valbona\nSun18 ski around Valbona\nMon 19 ski transfer to Thet\nTue 20 ski around Teth\nWed 21 ski transfer to Vusanje (Montenegro)\nThu 22 ski around Vusanje\nFri 23 ski back to Valbona\nSat 24 ski around Valbona\nSun 25 Valbona => Pristina => Home \n
URL:https://www.asceast-montagne.fr/sortie/raid-a-ski-en-albanie/
CATEGORIES:RAID à ski
ORGANIZER;CN="Thierry%20Duffar":MAILTO:thierry.duffar@grenoble-inp.fr
END:VEVENT
BEGIN:VEVENT
DTSTART;VALUE=DATE:20240224
DTEND;VALUE=DATE:20240225
DTSTAMP:20260420T090511
CREATED:20240119T100418Z
LAST-MODIFIED:20240119T101423Z
UID:10085-1708732800-1708819199@www.asceast-montagne.fr
SUMMARY:Grande Muraille - Ski de randonnée
DESCRIPTION:
URL:https://www.asceast-montagne.fr/sortie/ski-de-randonnee-gd-muraille-copy/
CATEGORIES:Journée ski de rando,Ski de rando
ORGANIZER;CN="Michel%20Harrand":MAILTO:michel.harrand@free.fr
END:VEVENT
END:VCALENDAR