﻿BEGIN:VCALENDAR
VERSION:2.0
PRODID:-//Section Montagne - AS CEA/ST Grenoble - ECPv4.6.6//NONSGML v1.0//EN
CALSCALE:GREGORIAN
METHOD:PUBLISH
X-WR-CALNAME:Section Montagne - AS CEA/ST Grenoble
X-ORIGINAL-URL:https://www.asceast-montagne.fr
X-WR-CALDESC:Events for Section Montagne - AS CEA/ST Grenoble
BEGIN:VEVENT
DTSTART;VALUE=DATE:20240210
DTEND;VALUE=DATE:20240212
DTSTAMP:20260420T090540
CREATED:20240119T083233Z
LAST-MODIFIED:20240119T101628Z
UID:10077-1707523200-1707695999@www.asceast-montagne.fr
SUMMARY:Weekend ZEN Monestier les Bains
DESCRIPTION:
URL:https://www.asceast-montagne.fr/sortie/weekend-ski-de-randonnee-zen/
CATEGORIES:Ski de rando,Weekend ski de rando
ORGANIZER;CN="Dominique%20Berger":MAILTO:&quot;Dominique Berger&quot;
END:VEVENT
END:VCALENDAR