﻿BEGIN:VCALENDAR
VERSION:2.0
PRODID:-//Section Montagne - AS CEA/ST Grenoble - ECPv4.6.6//NONSGML v1.0//EN
CALSCALE:GREGORIAN
METHOD:PUBLISH
X-WR-CALNAME:Section Montagne - AS CEA/ST Grenoble
X-ORIGINAL-URL:https://www.asceast-montagne.fr
X-WR-CALDESC:Events for Section Montagne - AS CEA/ST Grenoble
BEGIN:VEVENT
DTSTART;VALUE=DATE:20230218
DTEND;VALUE=DATE:20230219
DTSTAMP:20260422T223923
CREATED:20230129T134630Z
LAST-MODIFIED:20230129T140958Z
UID:9210-1676678400-1676764799@www.asceast-montagne.fr
SUMMARY:Tête des Chaudières
DESCRIPTION:
URL:https://www.asceast-montagne.fr/sortie/tete-des-chaudieres-2/
CATEGORIES:Journée ski de rando,Ski de rando
ORGANIZER;CN="Philippe%20Liatard":MAILTO:phil.liatard@orange.fr
END:VEVENT
END:VCALENDAR