﻿BEGIN:VCALENDAR
VERSION:2.0
PRODID:-//Section Montagne - AS CEA/ST Grenoble - ECPv4.6.6//NONSGML v1.0//EN
CALSCALE:GREGORIAN
METHOD:PUBLISH
X-WR-CALNAME:Section Montagne - AS CEA/ST Grenoble
X-ORIGINAL-URL:https://www.asceast-montagne.fr
X-WR-CALDESC:Events for Section Montagne - AS CEA/ST Grenoble
BEGIN:VEVENT
DTSTART;VALUE=DATE:20230128
DTEND;VALUE=DATE:20230129
DTSTAMP:20260423T001024
CREATED:20230111T143653Z
LAST-MODIFIED:20230111T143653Z
UID:9151-1674864000-1674950399@www.asceast-montagne.fr
SUMMARY:Sortie Ski de rando débutants
DESCRIPTION:
URL:https://www.asceast-montagne.fr/sortie/sortie-ski-de-rando-debutants/
CATEGORIES:Journée ski de rando
ORGANIZER;CN="Thierry%20Duffar":MAILTO:thierry.duffar@grenoble-inp.fr
END:VEVENT
END:VCALENDAR