﻿BEGIN:VCALENDAR
VERSION:2.0
PRODID:-//Section Montagne - AS CEA/ST Grenoble - ECPv4.6.6//NONSGML v1.0//EN
CALSCALE:GREGORIAN
METHOD:PUBLISH
X-WR-CALNAME:Section Montagne - AS CEA/ST Grenoble
X-ORIGINAL-URL:https://www.asceast-montagne.fr
X-WR-CALDESC:Events for Section Montagne - AS CEA/ST Grenoble
BEGIN:VEVENT
DTSTART;VALUE=DATE:20230107
DTEND;VALUE=DATE:20230108
DTSTAMP:20260423T000925
CREATED:20221214T090418Z
LAST-MODIFIED:20221221T105108Z
UID:9133-1673049600-1673135999@www.asceast-montagne.fr
SUMMARY:(Complet) Initiation au Ski de Randonnée / Discovering Skitouring
DESCRIPTION:Une journée d’initiation (Course de 400-800m + Exercices balises DVA)       \nInscription par mail d’Andrea ou Pierre ou lors des permances à l’AS (zone ALAS) le Vendredi de 13h à 13h30. \n*************** \nA day of discovery (Easy skitour <800m + Training with avalanche beacons) \nRegistration by mail to Andrea or Pierre or directly during the permanence (every Friday at lunch time from 1pm to 1:45pm) at the meeting room of the AS-CEA-ST (ground floor of the AS building on ALAS zone) \n
URL:https://www.asceast-montagne.fr/sortie/initiation-au-ski-de-randonnee-discovering-skitouring/
CATEGORIES:Formation ski de rando,Ski de rando
ORGANIZER;CN="Pierre%20Lloria":MAILTO:pierre.lloria@gmail.com
END:VEVENT
END:VCALENDAR