﻿BEGIN:VCALENDAR
VERSION:2.0
PRODID:-//Section Montagne - AS CEA/ST Grenoble - ECPv4.6.6//NONSGML v1.0//EN
CALSCALE:GREGORIAN
METHOD:PUBLISH
X-WR-CALNAME:Section Montagne - AS CEA/ST Grenoble
X-ORIGINAL-URL:https://www.asceast-montagne.fr
X-WR-CALDESC:Events for Section Montagne - AS CEA/ST Grenoble
BEGIN:VEVENT
DTSTART;TZID=Europe/Paris:20220305T080000
DTEND;TZID=Europe/Paris:20220305T170000
DTSTAMP:20260423T160308
CREATED:20220303T101509Z
LAST-MODIFIED:20220414T130149Z
UID:8683-1646467200-1646499600@www.asceast-montagne.fr
SUMMARY:Sortie de ski de rando
DESCRIPTION:
URL:https://www.asceast-montagne.fr/sortie/sortie-de-ski-de-rando-2022-3/
CATEGORIES:Journée ski de rando,Ski de rando
ORGANIZER;CN="Pierre%20Lloria":MAILTO:pierre.lloria@gmail.com
END:VEVENT
BEGIN:VEVENT
DTSTART;TZID=Europe/Paris:20220305T080000
DTEND;TZID=Europe/Paris:20220305T170000
DTSTAMP:20260423T160308
CREATED:20220307T152803Z
LAST-MODIFIED:20220414T130141Z
UID:8694-1646467200-1646499600@www.asceast-montagne.fr
SUMMARY:sortie de ski de rando
DESCRIPTION:
URL:https://www.asceast-montagne.fr/sortie/sortie-de-ski-de-rando-2022-2/
CATEGORIES:Journée ski de rando,Ski de rando
END:VEVENT
END:VCALENDAR