﻿BEGIN:VCALENDAR
VERSION:2.0
PRODID:-//Section Montagne - AS CEA/ST Grenoble - ECPv4.6.6//NONSGML v1.0//EN
CALSCALE:GREGORIAN
METHOD:PUBLISH
X-WR-CALNAME:Section Montagne - AS CEA/ST Grenoble
X-ORIGINAL-URL:https://www.asceast-montagne.fr
X-WR-CALDESC:Events for Section Montagne - AS CEA/ST Grenoble
BEGIN:VEVENT
DTSTART;TZID=Europe/Paris:20220220T080000
DTEND;TZID=Europe/Paris:20220220T170000
DTSTAMP:20260423T174424
CREATED:20211217T140445Z
LAST-MODIFIED:20220414T130204Z
UID:8310-1645344000-1645376400@www.asceast-montagne.fr
SUMMARY:Sortie de ski de rando
DESCRIPTION:
URL:https://www.asceast-montagne.fr/sortie/sortie-de-ski-de-rando-2022-5/
CATEGORIES:Journée ski de rando,Ski de rando
ORGANIZER;CN="Miriam%20Forster":MAILTO:holamf@hotmail.com
END:VEVENT
END:VCALENDAR