﻿BEGIN:VCALENDAR
VERSION:2.0
PRODID:-//Section Montagne - AS CEA/ST Grenoble - ECPv4.6.6//NONSGML v1.0//EN
CALSCALE:GREGORIAN
METHOD:PUBLISH
X-WR-CALNAME:Section Montagne - AS CEA/ST Grenoble
X-ORIGINAL-URL:https://www.asceast-montagne.fr
X-WR-CALDESC:Events for Section Montagne - AS CEA/ST Grenoble
BEGIN:VEVENT
DTSTART;VALUE=DATE:20220212
DTEND;VALUE=DATE:20220213
DTSTAMP:20260423T174518
CREATED:20211217T135355Z
LAST-MODIFIED:20220414T130226Z
UID:8301-1644624000-1644710399@www.asceast-montagne.fr
SUMMARY:Sortie ski de rando (annulée)
DESCRIPTION:
URL:https://www.asceast-montagne.fr/sortie/sortie-ski-de-rando-2-copy/
LOCATION:avenue des Martyrs\, Grenoble
CATEGORIES:Journée ski de rando,Ski de rando
ORGANIZER;CN="Philippe%20Liatard":MAILTO:phil.liatard@orange.fr
END:VEVENT
END:VCALENDAR