﻿BEGIN:VCALENDAR
VERSION:2.0
PRODID:-//Section Montagne - AS CEA/ST Grenoble - ECPv4.6.6//NONSGML v1.0//EN
CALSCALE:GREGORIAN
METHOD:PUBLISH
X-WR-CALNAME:Section Montagne - AS CEA/ST Grenoble
X-ORIGINAL-URL:https://www.asceast-montagne.fr
X-WR-CALDESC:Events for Section Montagne - AS CEA/ST Grenoble
BEGIN:VEVENT
DTSTART;TZID=Europe/Paris:20220129T080000
DTEND;TZID=Europe/Paris:20220129T170000
DTSTAMP:20260423T191822
CREATED:20211217T140149Z
LAST-MODIFIED:20211217T140431Z
UID:8307-1643443200-1643475600@www.asceast-montagne.fr
SUMMARY:Sortie de ski de rando
DESCRIPTION:
URL:https://www.asceast-montagne.fr/sortie/sortie-de-ski-de-rando-copy-2/
CATEGORIES:Journée ski de rando,Ski de rando
ORGANIZER;CN="Miriam%20Forster":MAILTO:holamf@hotmail.com
END:VEVENT
END:VCALENDAR