﻿BEGIN:VCALENDAR
VERSION:2.0
PRODID:-//Section Montagne - AS CEA/ST Grenoble - ECPv4.6.6//NONSGML v1.0//EN
CALSCALE:GREGORIAN
METHOD:PUBLISH
X-WR-CALNAME:Section Montagne - AS CEA/ST Grenoble
X-ORIGINAL-URL:https://www.asceast-montagne.fr
X-WR-CALDESC:Events for Section Montagne - AS CEA/ST Grenoble
BEGIN:VEVENT
DTSTART;TZID=Europe/Paris:20220123T080000
DTEND;TZID=Europe/Paris:20220123T170000
DTSTAMP:20260423T192332
CREATED:20211206T151446Z
LAST-MODIFIED:20220124T143513Z
UID:8277-1642924800-1642957200@www.asceast-montagne.fr
SUMMARY:Col du Jarnalet
DESCRIPTION:
URL:https://www.asceast-montagne.fr/sortie/sortie-de-ski-de-rando/
CATEGORIES:Journée ski de rando,Ski de rando
ORGANIZER;CN="Michel%20Harrand":MAILTO:michel.harrand@free.fr
END:VEVENT
END:VCALENDAR