﻿BEGIN:VCALENDAR
VERSION:2.0
PRODID:-//Section Montagne - AS CEA/ST Grenoble - ECPv4.6.6//NONSGML v1.0//EN
CALSCALE:GREGORIAN
METHOD:PUBLISH
X-WR-CALNAME:Section Montagne - AS CEA/ST Grenoble
X-ORIGINAL-URL:https://www.asceast-montagne.fr
X-WR-CALDESC:Events for Section Montagne - AS CEA/ST Grenoble
BEGIN:VEVENT
DTSTART;VALUE=DATE:20220116
DTEND;VALUE=DATE:20220117
DTSTAMP:20260423T192333
CREATED:20211217T134952Z
LAST-MODIFIED:20220124T141928Z
UID:8299-1642291200-1642377599@www.asceast-montagne.fr
SUMMARY:sortie ski de rando - ANNULE
DESCRIPTION:
URL:https://www.asceast-montagne.fr/sortie/sortie-ski-de-rando-2/
LOCATION:avenue des Martyrs\, Grenoble
CATEGORIES:Journée ski de rando,Ski de rando
ORGANIZER;CN="Philippe%20Liatard":MAILTO:phil.liatard@orange.fr
END:VEVENT
BEGIN:VEVENT
DTSTART;TZID=Europe/Paris:20220116T080000
DTEND;TZID=Europe/Paris:20220116T170000
DTSTAMP:20260423T192333
CREATED:20211206T145548Z
LAST-MODIFIED:20220124T143638Z
UID:8271-1642320000-1642352400@www.asceast-montagne.fr
SUMMARY:Pas de la Ville
DESCRIPTION:
URL:https://www.asceast-montagne.fr/sortie/sortie-ski-de-rando/
CATEGORIES:Journée ski de rando,Ski de rando
ORGANIZER;CN="Dominique%20Berger":MAILTO:&quot;Dominique Berger&quot;
END:VEVENT
END:VCALENDAR