﻿BEGIN:VCALENDAR
VERSION:2.0
PRODID:-//Section Montagne - AS CEA/ST Grenoble - ECPv4.6.6//NONSGML v1.0//EN
CALSCALE:GREGORIAN
METHOD:PUBLISH
X-WR-CALNAME:Section Montagne - AS CEA/ST Grenoble
X-ORIGINAL-URL:https://www.asceast-montagne.fr
X-WR-CALDESC:Events for Section Montagne - AS CEA/ST Grenoble
BEGIN:VEVENT
DTSTART;TZID=Europe/Paris:20220112T180000
DTEND;TZID=Europe/Paris:20220112T193000
DTSTAMP:20260423T192357
CREATED:20211206T153606Z
LAST-MODIFIED:20220110T163803Z
UID:8295-1642010400-1642015800@www.asceast-montagne.fr
SUMMARY:Soirée Neige & Avalanches ANNULÉE - sera reprogrammée
DESCRIPTION:
URL:https://www.asceast-montagne.fr/sortie/soiree-neige-avalanches/
LOCATION:avenue des Martyrs\, Grenoble
CATEGORIES:Formation ski de rando,Ski de rando
ORGANIZER;CN="Mathieu%20Des%20Noes":MAILTO:mathieu.desnoes@cea.fr
END:VEVENT
END:VCALENDAR