﻿BEGIN:VCALENDAR
VERSION:2.0
PRODID:-//Section Montagne - AS CEA/ST Grenoble - ECPv4.6.6//NONSGML v1.0//EN
CALSCALE:GREGORIAN
METHOD:PUBLISH
X-WR-CALNAME:Section Montagne - AS CEA/ST Grenoble
X-ORIGINAL-URL:https://www.asceast-montagne.fr
X-WR-CALDESC:Events for Section Montagne - AS CEA/ST Grenoble
BEGIN:VEVENT
DTSTART;TZID=Europe/Paris:20211215T080000
DTEND;TZID=Europe/Paris:20211215T180000
DTSTAMP:20260423T210251
CREATED:20211206T123612Z
LAST-MODIFIED:20211206T123754Z
UID:8269-1639555200-1639591200@www.asceast-montagne.fr
SUMMARY:Presentation de l'activité ski de rando
DESCRIPTION:
URL:https://www.asceast-montagne.fr/sortie/presentation-de-lactivite-ski-de-rando/
LOCATION:avenue des Martyrs\, Grenoble
CATEGORIES:Formation ski de rando,Ski de rando
END:VEVENT
END:VCALENDAR