﻿BEGIN:VCALENDAR
VERSION:2.0
PRODID:-//Section Montagne - AS CEA/ST Grenoble - ECPv4.6.6//NONSGML v1.0//EN
CALSCALE:GREGORIAN
METHOD:PUBLISH
X-WR-CALNAME:Section Montagne - AS CEA/ST Grenoble
X-ORIGINAL-URL:https://www.asceast-montagne.fr
X-WR-CALDESC:Events for Section Montagne - AS CEA/ST Grenoble
BEGIN:VEVENT
DTSTART;VALUE=DATE:20230831
DTEND;VALUE=DATE:20230905
DTSTAMP:20260424T073814
CREATED:20230405T081555Z
LAST-MODIFIED:20230405T082050Z
UID:9466-1693440000-1693871999@www.asceast-montagne.fr
SUMMARY:Camp d'escalade : Grimsel (Suisse)
DESCRIPTION:Du jeudi 31 août au lundi 4 septembre\n4 personnes max. Niveau : D (5/5+)\n275 €/personne \n
URL:https://www.asceast-montagne.fr/sortie/grimsel-2023/
LOCATION:46.561444\, 8.337516
CATEGORIES:Activités,Camp d’escalade adultes,Escalades adultes
END:VEVENT
END:VCALENDAR