﻿BEGIN:VCALENDAR
VERSION:2.0
PRODID:-//Section Montagne - AS CEA/ST Grenoble - ECPv4.6.6//NONSGML v1.0//EN
CALSCALE:GREGORIAN
METHOD:PUBLISH
X-WR-CALNAME:Section Montagne - AS CEA/ST Grenoble
X-ORIGINAL-URL:https://www.asceast-montagne.fr
X-WR-CALDESC:Events for Section Montagne - AS CEA/ST Grenoble
BEGIN:VEVENT
DTSTART;VALUE=DATE:20230514
DTEND;VALUE=DATE:20230515
DTSTAMP:20260424T142247
CREATED:20230405T075845Z
LAST-MODIFIED:20230405T082037Z
UID:9441-1684022400-1684108799@www.asceast-montagne.fr
SUMMARY:Camp d'escalade : Petite Cournouse (Vercors)
DESCRIPTION:Dimanche 14 mai – grande voie à la journée\n5 personnes max. Niveau : D+ (5c max)\n55 €/personne \n\nAttention\, les places sont limitées selon les camps. \nLe niveau des camps peut évoluer selon la dynamique du groupe (à la hausse comme à la baisse !)\nPour participer\, il est nécessaire de s’inscrire à l’AS et à la section Montagne.\nPour plus de renseignements\, venez aux permanences de la section les vendredis de 13h00 à 13h45 au RDC du bâtiment AS (bâtiment n°62\, zone ALAS) ou contactez-nous par email \n
URL:https://www.asceast-montagne.fr/sortie/cournouse-2023/
LOCATION:45.039338\, 5.396064
CATEGORIES:Activités,Camp d’escalade adultes,Escalades adultes
END:VEVENT
END:VCALENDAR