﻿BEGIN:VCALENDAR
VERSION:2.0
PRODID:-//Section Montagne - AS CEA/ST Grenoble - ECPv4.6.6//NONSGML v1.0//EN
CALSCALE:GREGORIAN
METHOD:PUBLISH
X-WR-CALNAME:Section Montagne - AS CEA/ST Grenoble
X-ORIGINAL-URL:https://www.asceast-montagne.fr
X-WR-CALDESC:Events for Section Montagne - AS CEA/ST Grenoble
BEGIN:VEVENT
DTSTART;VALUE=DATE:20220603
DTEND;VALUE=DATE:20220608
DTSTAMP:20260425T114159
CREATED:20220414T122918Z
LAST-MODIFIED:20220414T125906Z
UID:8885-1654214400-1654646399@www.asceast-montagne.fr
SUMMARY:Camp d'escalade : Corse
DESCRIPTION:Du vendredi 3 au mardi 7 juin (5 jours)\nGrandes voies sur granit & taffoni\, 4 personnes max. Niveau : AD+/D\n(4+/5+)\n335 €/personne \n
URL:https://www.asceast-montagne.fr/sortie/escalade-corse-2022/
LOCATION:Corse
CATEGORIES:Activités,Camp d’escalade adultes,Escalades adultes
END:VEVENT
END:VCALENDAR