﻿BEGIN:VCALENDAR
VERSION:2.0
PRODID:-//Section Montagne - AS CEA/ST Grenoble - ECPv4.6.6//NONSGML v1.0//EN
CALSCALE:GREGORIAN
METHOD:PUBLISH
X-WR-CALNAME:Section Montagne - AS CEA/ST Grenoble
X-ORIGINAL-URL:https://www.asceast-montagne.fr
X-WR-CALDESC:Events for Section Montagne - AS CEA/ST Grenoble
BEGIN:VEVENT
DTSTART;VALUE=DATE:20210828
DTEND;VALUE=DATE:20210902
DTSTAMP:20260426T042223
CREATED:20210622T155522Z
LAST-MODIFIED:20210622T160710Z
UID:8174-1630108800-1630540799@www.asceast-montagne.fr
SUMMARY:Escalade Grandes voies Aiguilles Dorées (Mt-Blanc)
DESCRIPTION:28 août-1 septembre (5j) Escalade Grandes voies Aiguilles Dorées (Mt-Blanc)\nGrandes voies TD 5+/6\, en bivouacs\, 4 personnes max \n
URL:https://www.asceast-montagne.fr/sortie/escalade-grandes-voies-aiguilles-dorees-mt-blanc/
LOCATION:X2JM+X8 Orsières\, Suisse
CATEGORIES:Activités,Camp d’escalade adultes,Escalades adultes
END:VEVENT
END:VCALENDAR