﻿BEGIN:VCALENDAR
VERSION:2.0
PRODID:-//Section Montagne - AS CEA/ST Grenoble - ECPv4.6.6//NONSGML v1.0//EN
CALSCALE:GREGORIAN
METHOD:PUBLISH
X-WR-CALNAME:Section Montagne - AS CEA/ST Grenoble
X-ORIGINAL-URL:https://www.asceast-montagne.fr
X-WR-CALDESC:Events for Section Montagne - AS CEA/ST Grenoble
BEGIN:VEVENT
DTSTART;TZID=Europe/Paris:20220201T080000
DTEND;TZID=Europe/Paris:20220201T170000
DTSTAMP:20260419T121118
CREATED:20220110T160737Z
LAST-MODIFIED:20220110T160948Z
UID:8367-1643702400-1643734800@www.asceast-montagne.fr
SUMMARY:INITIATION CASCADE DE GLACE
DESCRIPTION:– une journée d’initiation (pour celles et ceux n’ayant jamais pratiqué)\, mardi 1er ou jeudi 3 février\, 39€/personne de frais de guide + frais de déplacement.\n\n
URL:https://www.asceast-montagne.fr/sortie/initiation-cascade-de-glace-copy/
CATEGORIES:Alpinisme,Alpinisme hivernal
END:VEVENT
END:VCALENDAR