﻿BEGIN:VCALENDAR
VERSION:2.0
PRODID:-//Section Montagne - AS CEA/ST Grenoble - ECPv4.6.6//NONSGML v1.0//EN
CALSCALE:GREGORIAN
METHOD:PUBLISH
X-WR-CALNAME:Section Montagne - AS CEA/ST Grenoble
X-ORIGINAL-URL:https://www.asceast-montagne.fr
X-WR-CALDESC:Events for Section Montagne - AS CEA/ST Grenoble
BEGIN:VEVENT
DTSTART;TZID=Europe/Paris:20220125T080000
DTEND;TZID=Europe/Paris:20220125T170000
DTSTAMP:20260419T135519
CREATED:20220110T160721Z
LAST-MODIFIED:20220110T162745Z
UID:8365-1643097600-1643130000@www.asceast-montagne.fr
SUMMARY:CASCADE DE GLACE (course d'application)
DESCRIPTION:– une journée d’application (pour celles et ceux ayant déjà été initié(e)s\, pour parcourir plusieurs longueurs\, le niveau technique restant facile)\, mardi 25 ou jeudi 27 janvier\, 58€/personne de frais de guide + frais de déplacement.\n\n
URL:https://www.asceast-montagne.fr/sortie/initiation-cascade-de-glace/
CATEGORIES:Alpinisme,Alpinisme hivernal
END:VEVENT
END:VCALENDAR