﻿BEGIN:VCALENDAR
VERSION:2.0
PRODID:-//Section Montagne - AS CEA/ST Grenoble - ECPv4.6.6//NONSGML v1.0//EN
CALSCALE:GREGORIAN
METHOD:PUBLISH
X-WR-CALNAME:Section Montagne - AS CEA/ST Grenoble
X-ORIGINAL-URL:https://www.asceast-montagne.fr
X-WR-CALDESC:Events for Section Montagne - AS CEA/ST Grenoble
BEGIN:VEVENT
DTSTART;VALUE=DATE:20180720
DTEND;VALUE=DATE:20180723
DTSTAMP:20260424T090023
CREATED:20180516T082439Z
LAST-MODIFIED:20180516T083505Z
UID:4558-1532044800-1532303999@www.asceast-montagne.fr
SUMMARY:Camp de neige en étoile depuis le refuge Adèle Planchard
DESCRIPTION:20-22 juillet(3 jours): Camp de neige en étoile depuis le refuge Adèle Planchard (Massif des Ecrins) Niveau F ; 6 pers. Maximum ; 123 €/personne \nCourses prévues :\nVoie Normale de la Grande Ruine (3765 m)\nVoie Normale du col de la Casse Déserte (3483 m) \n\nAttention\, les places sont limitées selon les camps. \nLe niveau des camps peut évoluer selon la dynamique du groupe (à la hausse comme à la baisse !)\nPour participer\, il est nécessaire de s’inscrire à l’AS et à la section Montagne.\nPour plus de renseignements\, venez aux permanences de la section les vendredis de 13h00 à 13h45 au RDC du bâtiment AS (bâtiment n°62\, zone ALAS) ou contactez-nous par email. \nRetrouvez les plaquettes : formation d’alpinisme 2018 (PDF) est des camps d’été (PDF)  et ici. \n
URL:https://www.asceast-montagne.fr/sortie/camp-de-neige-en-etoile-depuis-le-refuge-adele-planchard/
LOCATION:44.968980\, 6.345173
CATEGORIES:Activités,Alpinisme,Camps d’alpinisme
END:VEVENT
END:VCALENDAR