﻿BEGIN:VCALENDAR
VERSION:2.0
PRODID:-//Section Montagne - AS CEA/ST Grenoble - ECPv4.6.6//NONSGML v1.0//EN
CALSCALE:GREGORIAN
METHOD:PUBLISH
X-WR-CALNAME:Section Montagne - AS CEA/ST Grenoble
X-ORIGINAL-URL:https://www.asceast-montagne.fr
X-WR-CALDESC:Events for Section Montagne - AS CEA/ST Grenoble
BEGIN:VEVENT
DTSTART;VALUE=DATE:20240412
DTEND;VALUE=DATE:20240415
DTSTAMP:20260420T081846
CREATED:20240313T141304Z
LAST-MODIFIED:20240314T100025Z
UID:10391-1712880000-1713139199@www.asceast-montagne.fr
SUMMARY:Écoles Neige et Glace (session 2)
DESCRIPTION:• Apprendre à progresser sur des pentes enneigées\, glacées et sur glacier.\n2 jours d’école + 1 course d’application (de difficulté adaptée aux participants).\n• Prérequis indispensable et obligatoire pour pouvoir participer aux camps d’alpinisme organisés par la section ; également accessible à toute personne souhaitant réviser ses techniques.\nLa course d’application constitue déjà un bel objectif en soi. \nCamps et formations – Alpinisme 2024 \n \n
URL:https://www.asceast-montagne.fr/sortie/eng_2024-2/
LOCATION:74400
CATEGORIES:Alpinisme,École de neige & glace,Formations
END:VEVENT
BEGIN:VEVENT
DTSTART;VALUE=DATE:20240413
DTEND;VALUE=DATE:20240420
DTSTAMP:20260420T081846
CREATED:20240119T101921Z
LAST-MODIFIED:20240119T102125Z
UID:10098-1712966400-1713571199@www.asceast-montagne.fr
SUMMARY:Raid: Tour du Grand Paradis (Italie) - Ski de randonnée
DESCRIPTION:Le sommet du Grand-Paradis (4061 m) n’a rien à envier au Mont-Blanc ou au Cervin voisins. Il domine un vaste massif éponyme au sud du Val d’Aoste. Ses vallées intactes donnent accès à un parc national pionnier\, le premier créé en Europe (en 1922)\, véritable sanctuaire des bouquetins. Un superbe tour dans un environnement façonné par les glaciers.  \n
URL:https://www.asceast-montagne.fr/sortie/ski-de-randonnee-marguerite-copy/
CATEGORIES:RAID à ski,Ski de rando
ORGANIZER;CN="Mathieu%20Des%20Noes":MAILTO:mathieu.desnoes@cea.fr
END:VEVENT
END:VCALENDAR