﻿BEGIN:VCALENDAR
VERSION:2.0
PRODID:-//Section Montagne - AS CEA/ST Grenoble - ECPv4.6.6//NONSGML v1.0//EN
CALSCALE:GREGORIAN
METHOD:PUBLISH
X-WR-CALNAME:Section Montagne - AS CEA/ST Grenoble
X-ORIGINAL-URL:https://www.asceast-montagne.fr
X-WR-CALDESC:Events for Section Montagne - AS CEA/ST Grenoble
BEGIN:VEVENT
DTSTART;TZID=Europe/Paris:20181212T180000
DTEND;TZID=Europe/Paris:20181212T193000
DTSTAMP:20260420T153706
CREATED:20181122T195114Z
LAST-MODIFIED:20181129T142251Z
UID:4831-1544637600-1544643000@www.asceast-montagne.fr
SUMMARY:Soirée de présentation - Ski de Rando
DESCRIPTION:Réunion informelle de présentation du ski de randonnée\, du club\, et des activités ski de randonnée. \nCette réunion aura lieu au rdc du batiment AS sur la zone ALAS du CEA. \n
URL:https://www.asceast-montagne.fr/sortie/soiree-de-presentation-ski-de-rando/
CATEGORIES:Formation ski de rando,Ski de rando
ORGANIZER;CN="Michel%20Vivaudou":MAILTO:vivaudou@ibs.fr
END:VEVENT
END:VCALENDAR