﻿BEGIN:VCALENDAR
VERSION:2.0
PRODID:-//Section Montagne - AS CEA/ST Grenoble - ECPv4.6.6//NONSGML v1.0//EN
CALSCALE:GREGORIAN
METHOD:PUBLISH
X-WR-CALNAME:Section Montagne - AS CEA/ST Grenoble
X-ORIGINAL-URL:https://www.asceast-montagne.fr
X-WR-CALDESC:Events for Section Montagne - AS CEA/ST Grenoble
BEGIN:VEVENT
DTSTART;VALUE=DATE:20170122
DTEND;VALUE=DATE:20170123
DTSTAMP:20260421T161718
CREATED:20170203T103223Z
LAST-MODIFIED:20170214T085344Z
UID:2314-1485043200-1485129599@www.asceast-montagne.fr
SUMMARY:Ski toute neige (niveau confirmé)
DESCRIPTION: \nEnvie d’ameliorer vos capacité de skier dans la neige\, poudreuse\, traffolée\, ventée etc ? \nDo you fancy to improve your style in off-pist terrain skiing? \nInscrivez vous au plus vite lors de la permanence du vendredi midi (13h00 AS ALAS)\, il y aura que 8 place par sortie. \nCoût: La section subventionne à 50% la sortie\, reste 30 EUR à votre charge\, à payer lors de l’inscription. \nPlease register as soon as possible\, participation is limited to 8 persons per outing. \nRegistration: Friday 13h00 in the AS-CEA ALAS building\, av des Martyrs \nFrais participant: 30 EUR + forfait + frais transport (co-voiturage) \n
URL:https://www.asceast-montagne.fr/sortie/ski-toute-neige-niveau-confirme/
CATEGORIES:Formation ski de rando,Ski de rando
ORGANIZER;CN="Miriam%20Forster":MAILTO:holamf@hotmail.com
END:VEVENT
END:VCALENDAR