﻿BEGIN:VCALENDAR
VERSION:2.0
PRODID:-//Section Montagne - AS CEA/ST Grenoble - ECPv4.6.6//NONSGML v1.0//EN
CALSCALE:GREGORIAN
METHOD:PUBLISH
X-WR-CALNAME:Section Montagne - AS CEA/ST Grenoble
X-ORIGINAL-URL:https://www.asceast-montagne.fr
X-WR-CALDESC:Events for Section Montagne - AS CEA/ST Grenoble
BEGIN:VEVENT
DTSTART;TZID=Europe/Paris:20160130T080000
DTEND;TZID=Europe/Paris:20160130T170000
DTSTAMP:20260421T223101
CREATED:20170208T150240Z
LAST-MODIFIED:20170214T085356Z
UID:2505-1454140800-1454173200@www.asceast-montagne.fr
SUMMARY:Ski rando : Pointe de Combe Bénite
DESCRIPTION:
URL:https://www.asceast-montagne.fr/sortie/ski-rando-pointe-de-combe-benite/
LOCATION:45° 35′ 40″ N 6° 36′ 55″ E
CATEGORIES:Journée ski de rando,Ski de rando
END:VEVENT
END:VCALENDAR