﻿BEGIN:VCALENDAR
VERSION:2.0
PRODID:-//Section Montagne - AS CEA/ST Grenoble - ECPv4.6.6//NONSGML v1.0//EN
CALSCALE:GREGORIAN
METHOD:PUBLISH
X-WR-CALNAME:Section Montagne - AS CEA/ST Grenoble
X-ORIGINAL-URL:https://www.asceast-montagne.fr
X-WR-CALDESC:Events for Section Montagne - AS CEA/ST Grenoble
BEGIN:VEVENT
DTSTART;VALUE=DATE:20181222
DTEND;VALUE=DATE:20181223
DTSTAMP:20260420T102424
CREATED:20181130T134217Z
LAST-MODIFIED:20181130T134310Z
UID:4857-1545436800-1545523199@www.asceast-montagne.fr
SUMMARY:Les Vans
DESCRIPTION:
URL:https://www.asceast-montagne.fr/sortie/ski-rando-les-vans-copy/
LOCATION:Chamrousse\, France
CATEGORIES:Journée ski de rando,Ski de rando
ORGANIZER;CN="Patrice%20Le%20Borgne":MAILTO:plborgne@numericable.fr
END:VEVENT
END:VCALENDAR