﻿BEGIN:VCALENDAR
VERSION:2.0
PRODID:-//Section Montagne - AS CEA/ST Grenoble - ECPv4.6.6//NONSGML v1.0//EN
CALSCALE:GREGORIAN
METHOD:PUBLISH
X-WR-CALNAME:Section Montagne - AS CEA/ST Grenoble
X-ORIGINAL-URL:https://www.asceast-montagne.fr
X-WR-CALDESC:Events for Section Montagne - AS CEA/ST Grenoble
BEGIN:VEVENT
DTSTART;VALUE=DATE:20161127
DTEND;VALUE=DATE:20161128
DTSTAMP:20260421T192446
CREATED:20170106T132520Z
LAST-MODIFIED:20170214T085801Z
UID:1817-1480204800-1480291199@www.asceast-montagne.fr
SUMMARY:Ski rando : Pic Blanc
DESCRIPTION:
URL:https://www.asceast-montagne.fr/sortie/ski-de-rando-pic-blanc/
CATEGORIES:Journée ski de rando,Ski de rando
END:VEVENT
END:VCALENDAR