﻿BEGIN:VCALENDAR
VERSION:2.0
PRODID:-//Section Montagne - AS CEA/ST Grenoble - ECPv4.6.6//NONSGML v1.0//EN
CALSCALE:GREGORIAN
METHOD:PUBLISH
X-WR-CALNAME:Section Montagne - AS CEA/ST Grenoble
X-ORIGINAL-URL:https://www.asceast-montagne.fr
X-WR-CALDESC:Events for Section Montagne - AS CEA/ST Grenoble
BEGIN:VEVENT
DTSTART;VALUE=DATE:20210703
DTEND;VALUE=DATE:20210705
DTSTAMP:20260420T020939
CREATED:20210622T160309Z
LAST-MODIFIED:20210622T160627Z
UID:8190-1625270400-1625443199@www.asceast-montagne.fr
SUMMARY:Escalade « camp-école » autour de la Bérarde (Ecrins)
DESCRIPTION:3-4 juillet (2j) Escalade « camp-école » autour de la Bérarde (Écrins)\nInitiation et grandes voies\, en camping\, 4 personnes max \n
URL:https://www.asceast-montagne.fr/sortie/escalade-camp-ecole-autour-de-la-berarde-ecrins/
LOCATION:44° 55′ 59″ N 6° 17′ 31″ E
CATEGORIES:Activités,Camp d’escalade adultes,Escalades adultes
END:VEVENT
END:VCALENDAR