﻿BEGIN:VCALENDAR
VERSION:2.0
PRODID:-//Section Montagne - AS CEA/ST Grenoble - ECPv4.6.6//NONSGML v1.0//EN
CALSCALE:GREGORIAN
METHOD:PUBLISH
X-WR-CALNAME:Section Montagne - AS CEA/ST Grenoble
X-ORIGINAL-URL:https://www.asceast-montagne.fr
X-WR-CALDESC:Events for Section Montagne - AS CEA/ST Grenoble
BEGIN:VEVENT
DTSTART;TZID=Europe/Paris:20220517T170000
DTEND;TZID=Europe/Paris:20220517T220000
DTSTAMP:20260424T001705
CREATED:20220517T075702Z
LAST-MODIFIED:20220517T075904Z
UID:8957-1652806800-1652824800@www.asceast-montagne.fr
SUMMARY:Écoles d'escalade adultes 2022 (11/12)
DESCRIPTION:
URL:https://www.asceast-montagne.fr/sortie/ecoles-descalade-adultes-2022-11/
LOCATION:45.198551\, 5.707519
CATEGORIES:Activités,École d’escalades adultes,Escalades adultes
ORGANIZER;CN="Cl%C3%A9ment%20GARAFFA":MAILTO:clement.garaffa+as@gmail.com
END:VEVENT
END:VCALENDAR