﻿BEGIN:VCALENDAR
VERSION:2.0
PRODID:-//Section Montagne - AS CEA/ST Grenoble - ECPv4.6.6//NONSGML v1.0//EN
CALSCALE:GREGORIAN
METHOD:PUBLISH
X-WR-CALNAME:Section Montagne - AS CEA/ST Grenoble
X-ORIGINAL-URL:https://www.asceast-montagne.fr
X-WR-CALDESC:Events for Section Montagne - AS CEA/ST Grenoble
BEGIN:VEVENT
DTSTART;VALUE=DATE:20180811
DTEND;VALUE=DATE:20180814
DTSTAMP:20260420T221733
CREATED:20180516T082823Z
LAST-MODIFIED:20180516T083457Z
UID:4562-1533945600-1534204799@www.asceast-montagne.fr
SUMMARY:Camp mixte en étoile depuis le refuge Torino
DESCRIPTION:Camp mixte en étoile depuis le refuge Torino (Massif du Mont Blanc) Niveau AD ; 3 pers. Maximum ; 246 €/personne \n\nCourses prévues : Traversée de l’aiguille d’Entrèves (3600 m)\n\nVoie Normale de la Dent du Géant (4013 m) \n\nAttention\, les places sont limitées selon les camps. \nLe niveau des camps peut évoluer selon la dynamique du groupe (à la hausse comme à la baisse !)\nPour participer\, il est nécessaire de s’inscrire à l’AS et à la section Montagne.\nPour plus de renseignements\, venez aux permanences de la section les vendredis de 13h00 à 13h45 au RDC du bâtiment AS (bâtiment n°62\, zone ALAS) ou contactez-nous par email. \nRetrouvez les plaquettes : formation d’alpinisme 2018 (PDF) est des camps d’été (PDF)  et ici. \n
URL:https://www.asceast-montagne.fr/sortie/camp-mixte-en-etoile-depuis-le-refuge-torino/
LOCATION:45.845112\, 6.933936
CATEGORIES:Activités,Alpinisme,Camps d’alpinisme
END:VEVENT
END:VCALENDAR