﻿BEGIN:VCALENDAR
VERSION:2.0
PRODID:-//Section Montagne - AS CEA/ST Grenoble - ECPv4.6.6//NONSGML v1.0//EN
CALSCALE:GREGORIAN
METHOD:PUBLISH
X-WR-CALNAME:Section Montagne - AS CEA/ST Grenoble
X-ORIGINAL-URL:https://www.asceast-montagne.fr
X-WR-CALDESC:Events for Section Montagne - AS CEA/ST Grenoble
BEGIN:VEVENT
DTSTART;VALUE=DATE:20180817
DTEND;VALUE=DATE:20180820
DTSTAMP:20260420T185535
CREATED:20180516T083009Z
LAST-MODIFIED:20180516T083428Z
UID:4566-1534464000-1534723199@www.asceast-montagne.fr
SUMMARY:Camp de rocher en étoile depuis le refuge du Soreiller
DESCRIPTION:Camp de rocher en étoile depuis le refuge du Soreiller (Massif des Ecrins) Niveau PD ; 5 pers. Maximum ; 147 €/personne \n\nCourses prévues : Arête N de l’aiguille Dibona (3131 m)\n\nArête S de l’aiguille centrale du Soreiller (3380 m) \n\nAttention\, les places sont limitées selon les camps. \nLe niveau des camps peut évoluer selon la dynamique du groupe (à la hausse comme à la baisse !)\nPour participer\, il est nécessaire de s’inscrire à l’AS et à la section Montagne.\nPour plus de renseignements\, venez aux permanences de la section les vendredis de 13h00 à 13h45 au RDC du bâtiment AS (bâtiment n°62\, zone ALAS) ou contactez-nous par email. \nRetrouvez les plaquettes : formation d’alpinisme 2018 (PDF) est des camps d’été (PDF)  et ici. \n
URL:https://www.asceast-montagne.fr/sortie/camp-de-rocher-en-etoile-depuis-le-refuge-du-soreiller/
LOCATION:44.960607\, 6.243892
CATEGORIES:Activités,Alpinisme,Camps d’alpinisme
END:VEVENT
END:VCALENDAR