﻿BEGIN:VCALENDAR
VERSION:2.0
PRODID:-//Section Montagne - AS CEA/ST Grenoble - ECPv4.6.6//NONSGML v1.0//EN
CALSCALE:GREGORIAN
METHOD:PUBLISH
X-WR-CALNAME:Section Montagne - AS CEA/ST Grenoble
X-ORIGINAL-URL:https://www.asceast-montagne.fr
X-WR-CALDESC:Events for Section Montagne - AS CEA/ST Grenoble
BEGIN:VEVENT
DTSTART;VALUE=DATE:20210716
DTEND;VALUE=DATE:20210719
DTSTAMP:20260420T002754
CREATED:20210622T155723Z
LAST-MODIFIED:20210622T160653Z
UID:8178-1626393600-1626652799@www.asceast-montagne.fr
SUMMARY:Alpinisme en refuge autour de la Lavey (Écrins)
DESCRIPTION:16-18 juillet (3j) Alpinisme en refuge autour de la Lavey (Ecrins)\nTête des Fétoules\, col de la Lavey. Lieu à confirmer.\nNiveau F\, rocher et neige\, en refuge\, 5 personnes max \n
URL:https://www.asceast-montagne.fr/sortie/alpinisme-en-refuge-autour-de-la-lavey-ecrins/
LOCATION:V6X4+FF Saint-Christophe-en-Oisans
CATEGORIES:Activités,Camps d’alpinisme
END:VEVENT
END:VCALENDAR